Workbook
Name _Hlk59456786: 'Anexa nr.2 - GN'!$B$15
Name _Hlk59456951: 'Anexa nr.2 - GN'!#REF!
Name _Hlk59458738: 'Anexa nr.2 - GN'!$D$81
Name _Hlk59460392: 'Anexa nr.2 - GN'!$D$109
Name _Hlk59535775: 'Anexa nr.2 - GN'!$B$40
Name _Hlk59540312: 'Anexa nr.2 - GN'!$B$83
Name _Hlk59540511: 'Anexa nr.2 - GN'!$B$99
Name _Hlk59542797: 'Anexa nr.2 - GN'!$B$170
Name _Hlk59549255: 'Anexa nr.2 - GN'!$B$283
Name _Hlk59706073: 'Anexa nr.2 - GN'!$B$43
Name _Hlk72944352: 'Anexa nr.2 - GN'!$B$89
Name _Hlk75355574: 'Anexa nr.2 - GN'!$B$161
Name _Hlk75356270: 'Anexa nr.2 - GN'!$B$149
Name _Hlk75441473: 'Anexa nr.2 - GN'!$B$136

Sheet Anexa nr.2 - GN
F1: Anexa nr. 2 la SPFEEGN | S1: Trimestru | U1: AgentEconomic
S2: 1 | U2: A.E.P. GIURGIU PORT
B3: RAPORTĂRI AFERENTE INDICATORILOR DE CALITATE PENTRU ACTIVITATEA DE FURNIZARE A GAZELOR NATURALE | S3: 2 | U3: ACTUAL CONNECT
S4: 3 | U4: ADERRO G.P. ENERGY
S5: 4 | U5: ADLER ENERGY GmbH
D6: Trimestrul: | E6: 1 | U6: AIK Energy Austria GmbH
D7: Anul: | E7: 2023 | U7: AIK ENERGY HUNGARY Kft fosta (KEROLEUM BEFEKTETESI ES KERESKEDELMI KORLATOLT)
U8: AIK ENERGY LTD
E9: Furnizor: | F9: CORDUN GAZ | U9: AIK ENERGY ROMANIA
E10: Persoana de contact pentru datele raportate: | F10: Ec.Vieru Alexandra | U10: AIK GREEN ONE
U11: ALEGFURNIZORUL CONSULTING
B12: Nr. crt. | C12: Indicatori de calitate | D12: Tip client final | E12: Valoare IC | F12: Observatii | I12: NOTĂ: - Macheta se completează doar de către furnizorii de gaze natruale care au avut în portofoliu clienti finali în perioda de raportare. - Macheta este protejata la editare, doar celulele de culoare alba sunt editabile. - Furnizorii care nu a desfăşurat activitate de furnizare a gazelor naturale pe piaţa cu amănuntul în perioada de raportare transmit la ANRE o informare în acest sens. | U12: ALIVE CAPITAL
B13: 0 | C13: 1 | D13: 2 | E13: 3 | F13: 4 | U13: Allianso Park Management
A14: 1 | B14: IC1 - timpul de raspuns la o solicitare de transmitere a unei oferte de furnizare | U14: ALMATAR TRANS
A15: 1.01 | B15: 1 | C15: Numarul solicitarilor primite de furnizor | D15: Casnic | E15: 51 | U15: ALPHA METAL
D16: Noncasnic | E16: 1 | U16: ALPHA PROJECT TEHNOLOGY
D17: Total | E17: =E15+E16 -> 52 | U17: ALPIQ ENERGY
A18: 1.02 | B18: 2 | C18: Numarul solicitarilor primite de furnizor, care au fost clasate | D18: Casnic | E18: 0 | U18: ALPIQ ROMINDUSTRIES
D19: Noncasnic | E19: 0 | U19: AMARAD DISTRIBUTIE
D20: Total | E20: =E18+E19 -> 0 | U20: AMROMCO ENERGY
A21: 1.03 | B21: 3 | C21: Numarul solicitarilor pentru care a fost respectat nivelul garantat al indicatorului de calitate | D21: Casnic | E21: 51 | U21: AOT ENERGY BELGIUM
D22: Noncasnic | E22: 1 | U22: APOPI & BLUMEN
D23: Total | E23: =E21+E22 -> 52 | U23: ARELCO ENERGY
A24: 1.04 | B24: 4 | C24: Numarul solicitarilor pentru care a fost incalcat nivelul garantat al indicatorului de calitate | D24: Casnic | E24: 0 | U24: ARELCO POWER
D25: Noncasnic | E25: 0 | U25: ARINNA DEVELOPMENT
D26: Total | E26: =E24+E25 -> 0 | U26: ARMAX GAZ
A27: 1.05 | B27: 5 | C27: Numarul compensatiilor platite pentru nerespectarea nivelului garantat al indicatorului de calitate | D27: Casnic | E27: 0 | U27: AROVI ENERGY (fosta WITH US ENERGIE&GAS PARTNERS SRL)
D28: Noncasnic | E28: 0 | U28: AXPO BULGARIA
D29: Total | E29: =E27+E28 -> 0 | U29: AXPO ENERGY ROMANIA
A30: 1.06 | B30: 6 | C30: Valoarea compensatiilor platite pentru nerespectarea nivelului garantat al indicatorului de calitate (lei) | D30: Casnic | E30: 0 | U30: AZOMURES
D31: Noncasnic | E31: 0 | U31: BERG SISTEM GAZ
D32: Total | E32: =E30+E31 -> 0 | U32: BLACK SEA OIL & GAS
A33: 1.07 | B33: 7 | C33: Valoarea dobanzilor penalizatoare platite pentru neindeplinirea obligatiilor de plata ale furnizorului ca urmare a nerespectarii nivelului garantat al indicatorului de calitate (lei) | D33: Casnic | E33: 0 | U33: BRENT OIL CO
D34: Noncasnic | E34: 0 | U34: C-GAZ & ENERGY DISTRIBUTIE
D35: Total | E35: =E33+E34 -> 0 | U35: CEZ TRADE ROMANIA
A36: 1.08 | B36: 8 | C36: Timpul mediu de raspuns la o solicitare (zile) | D36: Casnic | E36: 2 | U36: CEZ VANZARE
D37: Noncasnic | E37: 2 | U37: CHIMCOMPLEX BORZESTI
D38: Total | E38: 2 | U38: CIGA Energy
A39: 2 | B39: IC2 - timpul de raspuns la o solicitare de incheiere a unui contract de furnizare | U39: CIS GAZ
A40: 2.01 | B40: 9 | C40: Numarul solicitarilor primite de furnizor | D40: Casnic | E40: 51 | U40: COMPA
D41: Noncasnic | E41: 1 | U41: Compania Municipala Energetica Bucuresti
D42: Total | E42: =E40+E41 -> 52 | U42: CONEF ENERGY
A43: 2.02 | B43: 10 | C43: Numarul solicitarilor primite de furnizor, care au fost clasate | D43: Casnic | E43: 0 | U43: CONEF GAZ
D44: Noncasnic | E44: 0 | U44: CONI
D45: Total | E45: =E43+E44 -> 0 | U45: CORDUN GAZ
A46: 2.03 | B46: 11 | C46: Numarul solicitarilor primite de furnizor pentru care a fost respectat nivelul garantat al indicatorului de calitate | D46: Casnic | E46: 51 | U46: COSVAN
D47: Noncasnic | E47: 1 | U47: CPL CONCORDIA FILIALA CLUJ ROMANIA
D48: Total | E48: =E46+E47 -> 52 | U48: CREST ENERGY
A49: 2.04 | B49: 12 | C49: Numarul solicitarilor primite de furnizor pentru care a fost incalcat nivelul garantat al indicatorului de calitate | D49: Casnic | E49: 0 | U49: DACIA ENERGY SOLUTIONS
D50: Noncasnic | E50: 0 | U50: DACIAN PETROLEUM
D51: Total | E51: =E49+E50 -> 0 | U51: DELAGAZ & ENERGIE
A52: 2.05 | B52: 13 | C52: Numarul compensatiilor platite pentru nerespectarea nivelului garantat al indicatorului de calitate | D52: Casnic | E52: 0 | U52: DESIGN PROIECT
D53: Noncasnic | E53: 0 | U53: DISTRIGAZ VEST
D54: Total | E54: =E52+E53 -> 0 | U54: DORNACOR INVEST
A55: 2.06 | B55: 14 | C55: Valoarea compensatiilor platite pentru nerespectarea nivelului garantat al al indicatorului de calitate (lei) | D55: Casnic | E55: 0 | U55: E.ON ENERGIAMEGOLDASOK
D56: Noncasnic | E56: 0 | U56: E.ON ENERGIE ROMANIA
D57: Total | E57: =E55+E56 -> 0 | U57: E.ON FLASH (fost E.ON VANZARI)
A58: 2.07 | B58: 15 | C58: Valoarea dobanzilor penalizatoare platite pentru neindeplinirea obligatiilor de plata ale furnizorului ca urmare a nerespectarii nivelului garantat al indicatorului de calitate (lei) | D58: Casnic | E58: 0 | U58: E.ON GAZ FURNIZARE
D59: Noncasnic | E59: 0 | U59: E.V.A. ENERGY
D60: Total | E60: =E58+E59 -> 0 | U60: ELECTRIC & GAS POWER TRADE
A61: 2.08 | B61: 16 | C61: Timpul mediu de raspuns la o solicitare (zile) | D61: Casnic | E61: 1 | U61: ELECTRIC PLANNERS
D62: Noncasnic | E62: 1 | U62: ELECTRICA FURNIZARE
D63: Total | E63: 1 | U63: ELSACO ENERGY
A64: 3 | B64: IC3 - timpul de raspuns la o solicitare de modificare/completare a unui contract de furnizare | U64: ENEL ENERGIE
A65: 3.01 | B65: 17 | C65: Numarul solicitarilor primite de furnizor | D65: Casnic | E65: 20 | U65: ENEL ENERGIE MUNTENIA
D66: Noncasnic | E66: 0 | U66: ENERGAZ BUSINESS & PARTNERS
D67: Total | E67: =E65+E66 -> 20 | U67: Energia Gas & Power (fosta ECG Energy Cluj)
A68: 3.02 | B68: 18 | C68: Numarul solicitarilor primite de furnizor, care au fost clasate | D68: Casnic | E68: 0 | U68: ENERGIKO EOOD
D69: Noncasnic | E69: 0 | U69: ENERGO-PRO ENERGY SERVICES
D70: Total | E70: =E68+E69 -> 0 | U70: ENERGOMECANICA SERV
A71: 3.03 | B71: 19 | C71: Numarul solicitarilor primite de furnizor, pentru care a fost respectat nivelul garantat al indicatorului de calitate | D71: Casnic | E71: 20 | U71: ENERGOTRADING CENTER
D72: Noncasnic | E72: 0 | U72: ENERGY CORE DEVELOPMENT
D73: Total | E73: =E71+E72 -> 20 | U73: ENERGY DISTRIBUTION SERVICES
A74: 3.04 | B74: 20 | C74: Numarul solicitarilor primite de furnizor, pentru care a fost incalcat nivelul garantat al indicatorului de calitate | D74: Casnic | E74: 0 | U74: ENERGY GAS PROVIDER
D75: Noncasnic | E75: 0 | U75: ENERGY GATE
D76: Total | E76: =E74+E75 -> 0 | U76: ENERGY TECH ENTERA SRL( fosta RA-RA P ARC)
A77: 3.05 | B77: 21 | C77: Numarul compensatiilor platite pentru nerespectarea nivelului garantat al indicatorului de calitate | D77: Casnic | E77: 0 | U77: Energyfair Zártköruen Muködo Részvénytársaság Zrt.
D78: Noncasnic | E78: 0 | U78: ENEX
D79: Total | E79: =E77+E78 -> 0 | U79: ENGIE ENERGY MANAGEMENT ROMANIA
A80: 3.06 | B80: 22 | C80: Valoarea compensatiilor platite pentru nerespectarea nivelului garantat al indicatorului de calitate (lei) | D80: Casnic | E80: 0 | U80: ENGIE ROMANIA
D81: Noncasnic | E81: 0 | U81: ENTREX SERVICES
D82: Total | E82: =E80+E81 -> 0 | U82: ESTIVA SMART
A83: 3.07 | B83: 23 | C83: Valoarea dobanzilor penalizatoare platite pentru neindeplinirea obligatiilor de plata ale furnizorului ca urmare a nerespectarii nivelului garantat al indicatorului de calitate (lei) | D83: Casnic | E83: 0 | U83: EURO SEVEN INDUSTRY
D84: Noncasnic | E84: 0 | U84: EUROASIAN ENERGY GROUP
D85: Total | E85: =E83+E84 -> 0 | U85: EWING DISTRIBUTION
A86: 3.08 | B86: 24 | C86: Timpul mediu de raspuns la o solicitare (zile) | D86: Casnic | E86: 1 | U86: EXXONMOBIL EXPLORATION AND PRODUCTION ROMANIA LIMI
D87: Noncasnic | E87: 0 | U87: EYE MALL
D88: Total | E88: 1 | U88: FDA GREEN POWER
A89: 4 | B89: IC4 - timpul de raspuns la o solicitare referitoare la o factura emisa | U89: FM GAZ
A90: 4.01 | B90: 25 | C90: Numarul solicitarilor primite de furnizor (acest indicator cuprinde doar acele solicitari care nu au necesitat verificarea datelor de masurare a consumului de catre OR) | D90: Casnic | E90: 0 | U90: FONDUL DE DEZVOLTARE S.C.E. CU RASPUNDERE LIMITATA
D91: Noncasnic | E91: 0 | U91: FORAJ SONDE Craiova
D92: Total | E92: =E90+E91 -> 0 | U92: GAS & POWER TRADING
A93: 4.02 | B93: 26 | C93: Numarul solicitarilor primite de furnizor, care au fost clasate (acest indicator cuprinde doar solicitarile care nu au necesitat verificarea datelor de masurare a consumului de catre OR) | D93: Casnic | E93: 0 | U93: GAS PLUS DACIA
D94: Noncasnic | E94: 0 | U94: GAZ EST
D95: Total | E95: =E93+E94 -> 0 | U95: GAZ NORD EST
A96: 4.03 | B96: 27 | C96: Numarul solicitarilor care au necesitat verificarea datelor de masurare de catre OR | D96: Casnic | E96: 0 | U96: GAZ SUD
D97: Noncasnic | E97: 0 | U97: GAZ VEST
D98: Total | E98: =E96+E97 -> 0 | U98: GAZ VEST TRADING
A99: 4.04 | B99: 28 | C99: Numarul solicitarilor pentru care a fost respectat nivelul garantat al indicatorului de calitate (acest indicator cuprinde doar acele solicitari care nu au necesitat verificarea datelor de masurare a consumului de catre OR) | D99: Casnic | E99: 0 | U99: GAZMIR IASI
D100: Noncasnic | E100: 0 | U100: GECABUILD
...

Sheet Anexa nr.3 - GN
F1: Anexa nr. 3 la SPFEEGN
B3: RAPORT PRIVIND INDICATORII SPECIFICI DE PERFORMANTA AI ACTIVITATII FURNIZORULUI DE GAZE NATURALE
E6: Trimestrul: | F6: ='Anexa nr.2 - GN'!E6 -> 1
E7: Anul: | F7: 2023
E10: Furnizor: | F10: ='Anexa nr.2 - GN'!F9 -> CORDUN GAZ
E11: Persoana de contact pentru datele raportate: | F11: ='Anexa nr.2 - GN'!F10 -> Ec.Vieru Alexandra
B13: Nr. ctr. | C13: Denumirea indicatorului de calitate (IC) | D13: Nr. solicitari primite aferente IC | E13: Nr. solicitari pentru care a fost respectat nivelul garantat al IC | F13: Gradul de indeplinire a IC determinat prin indicatorul specific de performanta (ISP) (%) | G13: Punctaj | I13: Timpul mediu de raspuns | J13: U.M.
B14: 0 | C14: 1 | D14: 2 | E14: 3 | F14: 4 = ( 3 / 2)*100 | L14: NOTĂ: - Macheta se completează doar de către furnizorii de gaze natruale care au avut în portofoliu clienți finali în perioda de raportare. - Macheta este protejata la editare, doar celulele de culoare alba sunt editabile. - Furnizorii care nu a desfăşurat activitate de furnizare a gazelor naturale pe piaţa cu amănuntul în perioada de raportare transmit la ANRE o informare în acest sens.
A15: 1 | B15: 1 | C15: IC1 - timpul de raspuns la o solicitare de transmitere a unei oferte de furnizare | D15: ='Anexa nr.2 - GN'!E17 -> 52 | E15: ='Anexa nr.2 - GN'!E23 -> 52 | F15: =IF(E15>D15,0,IF(D15+E15=0,0,IF(E15/D15>1,0,E15/D15))) -> 1 | G15: =IF(F15>=95%,5,IF(F15>=85%,4,IF(F15>=75%,3,IF(F15>=50%,2,IF(AND(F15<50%,F15>0),1,IF(AND(D15,E15=0),1,0)))))) -> 5 | I15: ='Anexa nr.2 - GN'!E38 -> 2 | J15: zile
A16: 2 | B16: =B15+1 -> 2 | C16: IC2 - timpul de raspuns la o solicitare de incheiere a unui contract de furnizare | D16: ='Anexa nr.2 - GN'!E42 -> 52 | E16: ='Anexa nr.2 - GN'!E48 -> 52 | F16: =IF(E16>D16,0,IF(D16+E16=0,0,IF(E16/D16>1,0,E16/D16))) -> 1 | G16: =IF(F16>=95%,5,IF(F16>=85%,4,IF(F16>=75%,3,IF(F16>=50%,2,IF(AND(F16<50%,F16>0),1,IF(AND(D16,E16=0),1,0)))))) -> 5 | I16: ='Anexa nr.2 - GN'!E63 -> 1 | J16: zile
A17: 3 | B17: =B16+1 -> 3 | C17: IC3 - timpul de raspuns la o solicitare de modificare/completare a unui contract de furnizare | D17: ='Anexa nr.2 - GN'!E67 -> 20 | E17: ='Anexa nr.2 - GN'!E73 -> 20 | F17: =IF(E17>D17,0,IF(D17+E17=0,0,IF(E17/D17>1,0,E17/D17))) -> 1 | G17: =IF(F17>=95%,5,IF(F17>=85%,4,IF(F17>=75%,3,IF(F17>=50%,2,IF(AND(F17<50%,F17>0),1,IF(AND(D17,E17=0),1,0)))))) -> 5 | I17: ='Anexa nr.2 - GN'!E88 -> 1 | J17: zile
A18: 4 | B18: =B17+1 -> 4 | C18: IC4 - timpul de raspuns la o solicitare referitoare la o factura emisa | D18: ='Anexa nr.2 - GN'!E92 -> 0 | E18: ='Anexa nr.2 - GN'!E101 -> 0 | F18: =IF(E18>D18,0,IF(D18+E18=0,0,IF(E18/D18>1,0,E18/D18))) -> 0 | G18: =IF(F18>=95%,5,IF(F18>=85%,4,IF(F18>=75%,3,IF(F18>=50%,2,IF(AND(F18<50%,F18>0),1,IF(AND(D18,E18=0),1,0)))))) -> 0 | I18: ='Anexa nr.2 - GN'!E116 -> 0 | J18: zile
A19: 5 | B19: =B18+1 -> 5 | C19: IC5 - timpul de raspuns la o sesizare referitoare la intreruperea/limitarea furnizarii la locul de consum, dupa caz, dispusa nejustificat de catre furnizor | D19: ='Anexa nr.2 - GN'!E120 -> 0 | E19: ='Anexa nr.2 - GN'!E126 -> 0 | F19: =IF(E19>D19,0,IF(D19+E19=0,0,IF(E19/D19>1,0,E19/D19))) -> 0 | G19: =IF(F19>=95%,5,IF(F19>=85%,4,IF(F19>=75%,3,IF(F19>=50%,2,IF(AND(F19<50%,F19>0),1,IF(AND(D19,E19=0),1,0)))))) -> 0 | I19: ='Anexa nr.2 - GN'!E141 -> 0 | J19: zile
A20: 6 | B20: =B19+1 -> 6 | C20: IC6 - timpul de transmitere catre OR a unei solicitari de reluare a furnizarii la locul de consum, a carei intrerupere/limitare a fost dispusa de catre furnizor | D20: ='Anexa nr.2 - GN'!E160 -> 0 | E20: ='Anexa nr.2 - GN'!E163 -> 0 | F20: =IF(E20>D20,0,IF(D20+E20=0,0,IF(E20/D20>1,0,E20/D20))) -> 0 | G20: =IF(F20>=95%,5,IF(F20>=85%,4,IF(F20>=75%,3,IF(F20>=50%,2,IF(AND(F20<50%,F20>0),1,IF(AND(D20,E20=0),1,0)))))) -> 0 | I20: ='Anexa nr.2 - GN'!E178 -> 0 | J20: ore
A21: 7 | B21: =B20+1 -> 7 | C21: IC7 - timpul de transmitere catre OR a unei solicitari primite al carei obiect este legat de domeniul de activitate al OR | D21: ='Anexa nr.2 - GN'!E188 -> 0 | E21: ='Anexa nr.2 - GN'!E191 -> 0 | F21: =IF(E21>D21,0,IF(D21+E21=0,0,IF(E21/D21>1,0,E21/D21))) -> 0 | G21: =IF(F21>=95%,5,IF(F21>=85%,4,IF(F21>=75%,3,IF(F21>=50%,2,IF(AND(F21<50%,F21>0),1,IF(AND(D21,E21=0),1,0)))))) -> 0 | I21: ='Anexa nr.2 - GN'!E206 -> 0 | J21: zile
A22: 8 | B22: =B21+1 -> 8 | C22: IC8 - timpul de transmitere catre solicitant a raspunsului primit de la OR | D22: ='Anexa nr.2 - GN'!E213 -> 0 | E22: ='Anexa nr.2 - GN'!E216 -> 0 | F22: =IF(E22>D22,0,IF(D22+E22=0,0,IF(E22/D22>1,0,E22/D22))) -> 0 | G22: =IF(F22>=95%,5,IF(F22>=85%,4,IF(F22>=75%,3,IF(F22>=50%,2,IF(AND(F22<50%,F22>0),1,IF(AND(D22,E22=0),1,0)))))) -> 0 | I22: ='Anexa nr.2 - GN'!E231 -> 0 | J22: zile
A23: 9 | B23: =B22+1 -> 9 | C23: IC9 - timpul de raspuns la o solicitare referitoare la procesul de schimbare a furnizorului | D23: ='Anexa nr.2 - GN'!E235 -> 4 | E23: ='Anexa nr.2 - GN'!E241 -> 4 | F23: =IF(E23>D23,0,IF(D23+E23=0,0,IF(E23/D23>1,0,E23/D23))) -> 1 | G23: =IF(F23>=95%,5,IF(F23>=85%,4,IF(F23>=75%,3,IF(F23>=50%,2,IF(AND(F23<50%,F23>0),1,IF(AND(D23,E23=0),1,0)))))) -> 5 | I23: ='Anexa nr.2 - GN'!E256 -> 3 | J23: zile
A24: 10 | B24: =B23+1 -> 10 | C24: IC10 - timpul de raspuns la o solicitare referitoare la activitatea de furnizare, alta decat cele prevazute expres in cadrul prezentului Standard | D24: ='Anexa nr.2 - GN'!E260 -> 0 | E24: ='Anexa nr.2 - GN'!E266 -> 0 | F24: =IF(E24>D24,0,IF(D24+E24=0,0,IF(E24/D24>1,0,E24/D24))) -> 0 | G24: =IF(F24>=95%,5,IF(F24>=85%,4,IF(F24>=75%,3,IF(F24>=50%,2,IF(AND(F24<50%,F24>0),1,IF(AND(D24,E24=0),1,0)))))) -> 0 | I24: ='Anexa nr.2 - GN'!E281 -> 0 | J24: zile
A25: 11 | B25: =B24+1 -> 11 | C25: IC11 - timpul de preluare a unui apel telefonic efectuat prin serviciul de telefonie (call center) | D25: ='Anexa nr.2 - GN'!E291 -> 0 | E25: ='Anexa nr.2 - GN'!E294 -> 0 | F25: =IF(E25>D25,0,IF(D25+E25=0,0,IF(E25/D25>1,0,E25/D25))) -> 0 | G25: =IF(F25>=95%,5,IF(F25>=85%,4,IF(F25>=75%,3,IF(F25>=50%,2,IF(AND(F25<50%,F25>0),1,IF(AND(D25,E25=0),1,0)))))) -> 0 | I25: ='Anexa nr.2 - GN'!E309 -> 0 | J25: minute
F26: SCOR: | G26: =SUM(G15:G25) -> 20
